BEGIN:VCALENDAR
VERSION:2.0
PRODID:-//jEvents 2.0 for Joomla//EN
CALSCALE:GREGORIAN
METHOD:PUBLISH
BEGIN:VTIMEZONE
TZID:Europe/Paris
BEGIN:STANDARD
DTSTART:20210121T100000
RDATE:20210328T030000
TZOFFSETFROM:+0200
TZOFFSETTO:+0100
TZNAME:Europe/Paris CET
END:STANDARD
BEGIN:STANDARD
DTSTART:20211031T020000
RDATE:20220327T030000
TZOFFSETFROM:+0200
TZOFFSETTO:+0100
TZNAME:Europe/Paris CET
END:STANDARD
BEGIN:STANDARD
DTSTART:20221030T020000
RDATE:20230326T030000
TZOFFSETFROM:+0200
TZOFFSETTO:+0100
TZNAME:Europe/Paris CET
END:STANDARD
BEGIN:STANDARD
DTSTART:20231029T020000
RDATE:20240331T030000
TZOFFSETFROM:+0200
TZOFFSETTO:+0100
TZNAME:Europe/Paris CET
END:STANDARD
BEGIN:STANDARD
DTSTART:20241027T020000
RDATE:20250330T030000
TZOFFSETFROM:+0200
TZOFFSETTO:+0100
TZNAME:Europe/Paris CET
END:STANDARD
BEGIN:STANDARD
DTSTART:20251026T020000
RDATE:20260329T030000
TZOFFSETFROM:+0200
TZOFFSETTO:+0100
TZNAME:Europe/Paris CET
END:STANDARD
BEGIN:STANDARD
DTSTART:20261025T020000
RDATE:20270328T030000
TZOFFSETFROM:+0200
TZOFFSETTO:+0100
TZNAME:Europe/Paris CET
END:STANDARD
BEGIN:STANDARD
DTSTART:20271031T020000
RDATE:20280326T030000
TZOFFSETFROM:+0200
TZOFFSETTO:+0100
TZNAME:Europe/Paris CET
END:STANDARD
BEGIN:STANDARD
DTSTART:20281029T020000
RDATE:20290325T030000
TZOFFSETFROM:+0200
TZOFFSETTO:+0100
TZNAME:Europe/Paris CET
END:STANDARD
BEGIN:STANDARD
DTSTART:20291028T020000
RDATE:20300331T030000
TZOFFSETFROM:+0200
TZOFFSETTO:+0100
TZNAME:Europe/Paris CET
END:STANDARD
BEGIN:STANDARD
DTSTART:20301027T020000
RDATE:20310330T030000
TZOFFSETFROM:+0200
TZOFFSETTO:+0100
TZNAME:Europe/Paris CET
END:STANDARD
BEGIN:STANDARD
DTSTART:20311026T020000
RDATE:20320328T030000
TZOFFSETFROM:+0200
TZOFFSETTO:+0100
TZNAME:Europe/Paris CET
END:STANDARD
BEGIN:DAYLIGHT
DTSTART:20210328T030000
RDATE:20211031T020000
TZOFFSETFROM:+0100
TZOFFSETTO:+0200
TZNAME:Europe/Paris CEST
END:DAYLIGHT
BEGIN:DAYLIGHT
DTSTART:20220327T030000
RDATE:20221030T020000
TZOFFSETFROM:+0100
TZOFFSETTO:+0200
TZNAME:Europe/Paris CEST
END:DAYLIGHT
BEGIN:DAYLIGHT
DTSTART:20230326T030000
RDATE:20231029T020000
TZOFFSETFROM:+0100
TZOFFSETTO:+0200
TZNAME:Europe/Paris CEST
END:DAYLIGHT
BEGIN:DAYLIGHT
DTSTART:20240331T030000
RDATE:20241027T020000
TZOFFSETFROM:+0100
TZOFFSETTO:+0200
TZNAME:Europe/Paris CEST
END:DAYLIGHT
BEGIN:DAYLIGHT
DTSTART:20250330T030000
RDATE:20251026T020000
TZOFFSETFROM:+0100
TZOFFSETTO:+0200
TZNAME:Europe/Paris CEST
END:DAYLIGHT
BEGIN:DAYLIGHT
DTSTART:20260329T030000
RDATE:20261025T020000
TZOFFSETFROM:+0100
TZOFFSETTO:+0200
TZNAME:Europe/Paris CEST
END:DAYLIGHT
BEGIN:DAYLIGHT
DTSTART:20270328T030000
RDATE:20271031T020000
TZOFFSETFROM:+0100
TZOFFSETTO:+0200
TZNAME:Europe/Paris CEST
END:DAYLIGHT
BEGIN:DAYLIGHT
DTSTART:20280326T030000
RDATE:20281029T020000
TZOFFSETFROM:+0100
TZOFFSETTO:+0200
TZNAME:Europe/Paris CEST
END:DAYLIGHT
BEGIN:DAYLIGHT
DTSTART:20290325T030000
RDATE:20291028T020000
TZOFFSETFROM:+0100
TZOFFSETTO:+0200
TZNAME:Europe/Paris CEST
END:DAYLIGHT
BEGIN:DAYLIGHT
DTSTART:20300331T030000
RDATE:20301027T020000
TZOFFSETFROM:+0100
TZOFFSETTO:+0200
TZNAME:Europe/Paris CEST
END:DAYLIGHT
BEGIN:DAYLIGHT
DTSTART:20310330T030000
RDATE:20311026T020000
TZOFFSETFROM:+0100
TZOFFSETTO:+0200
TZNAME:Europe/Paris CEST
END:DAYLIGHT
END:VTIMEZONE
BEGIN:VEVENT
UID:5e06b0486a44b9ac0182e22d1dbf06dc
CATEGORIES:en ligne
CREATED:20211030T122131
SUMMARY:ECOMÉDECINE TAOÏSTE – ENERGIE TERRE / RATE
LOCATION:ZOOM
DESCRIPTION:<h2 style="text-align: center;"><span style="font-size: 14pt; color: #00008
 0;"><strong><span style="font-family: 'times new roman', times, serif;"><em
 >Ecomédecine Taoïste pour le Monde d’Aujourd’hui</em></span></strong></span
 ><br /><br /><span style="font-size: 12pt; color: #000080;"><strong><span s
 tyle="font-family: 'times new roman', times, serif;"><em>“Se Guérir et guér
 ir la Terre”</em></span></strong></span></h2><div class="large-8 small-12 c
 olum"><h1 class="entry-title activite-titre"><span style="color: #800000; f
 ont-size: 10pt;"><em><strong>ECOMÉDECINE TAOÏSTE – ENERGIE TERRE / RATE</st
 rong></em></span></h1></div><p style="text-align: center;"><br /><br /><spa
 n style="font-family: 'times new roman', times, serif; font-size: 12pt;"><e
 m>Si la respiration nous connecte au ciel, l’alimentation nous connecte dir
 ectement à la Terre. </em></span></p><p style="text-align: left;"><span sty
 le="font-family: 'times new roman', times, serif; font-size: 12pt;"><em>Les
  Taoïstes ont toujours placé alimentation et thérapie alimentaire au cœur d
 ’une santé globale des humains et de la Terre.</em></span><br /><br /><span
  style="font-family: 'times new roman', times, serif; font-size: 12pt;"><em
 >Les 5 énergies peuvent nous guider au quotidien et au fil des saisons pour
  nous nourrir et nous guérir. </em></span></p><p style="text-align: left;">
 <span style="font-family: 'times new roman', times, serif; font-size: 12pt;
 "><em>Au menu de ces 5 webinaires : remèdes de grand-mères taoïstes (et de 
 chez nous) , recettes fortifiantes et gourmandes, menus de saison savoureux
 , le tout avec de bonnes pincées de joie, d’amour et de saveurs!</em></span
 ></p><p style="text-align: left;"> </p><p><span style="font-size: 12pt;"><e
 m><span style="font-family: 'comic sans ms', sans-serif;">Pour le webinaire
  ZOOM en direct, inscrivez-vous en suivant ce lien:  </span></em></span><sp
 an style="font-size: 12pt;"><em><span style="font-family: 'comic sans ms', 
 sans-serif;"><a href="https://us02web.zoom.us/webinar/register/WN_RlQgybMoT
 jKLbLtQUCAX9Q">https://us02web.zoom.us/webinar/register/WN_RlQgybMoTjKLbLtQ
 UCAX9Q</a></span></em></span></p><p> </p><p><span style="font-size: 12pt;">
 <em><span style="font-family: 'comic sans ms', sans-serif;">Pour les person
 nes n’étant disponibles pour le direct, le replay vous sera transmis suite 
 au webinaire.</span></em></span></p><p style="text-align: justify;"> </p><p
  style="text-align: left;"><span style="font-size: 14pt;"><em><span style="
 color: #800000;"><strong><span class="titre-details">Date :</span> 22 Jan 2
 022 - </strong></span></em></span><span style="font-size: 14pt;"><em><span 
 style="color: #800000;"><strong><span class="titre-details">Horaires :</spa
 n> 10h00-12h00 - </strong></span></em></span><span style="font-size: 14pt;"
 ><em><span style="color: #800000;"><strong><span class="titre-details">Lieu
  : </span>Zoom - </strong></span></em></span><span style="font-size: 14pt;"
 ><em><span style="color: #800000;"><strong><span class="titre-details">Tari
 fs : </span>20€</strong></span></em></span></p><p style="text-align: left;"
 > </p><p style="text-align: left;"><span style="font-size: 14pt;"><em><span
  style="color: #800000;"><strong>Liliane Papin : <a href="https://youtu.be/
 uQ78KYk2i9E">https://youtu.be/uQ78KYk2i9E</a></strong></span></em></span></
 p><p style="text-align: left;"> </p><p style="text-align: left;"> </p>
DTSTAMP:20260423T105758
DTSTART;TZID=Europe/Paris:20220122T100000
DTEND;TZID=Europe/Paris:20220122T120000
SEQUENCE:0
TRANSP:OPAQUE
END:VEVENT
END:VCALENDAR