BEGIN:VCALENDAR
VERSION:2.0
PRODID:-//jEvents 2.0 for Joomla//EN
CALSCALE:GREGORIAN
METHOD:PUBLISH
BEGIN:VTIMEZONE
TZID:Europe/Paris
BEGIN:STANDARD
DTSTART:20211031T020000
RDATE:20220327T030000
TZOFFSETFROM:+0200
TZOFFSETTO:+0100
TZNAME:Europe/Paris CET
END:STANDARD
BEGIN:STANDARD
DTSTART:20221030T020000
RDATE:20230326T030000
TZOFFSETFROM:+0200
TZOFFSETTO:+0100
TZNAME:Europe/Paris CET
END:STANDARD
BEGIN:STANDARD
DTSTART:20231029T020000
RDATE:20240331T030000
TZOFFSETFROM:+0200
TZOFFSETTO:+0100
TZNAME:Europe/Paris CET
END:STANDARD
BEGIN:STANDARD
DTSTART:20241027T020000
RDATE:20250330T030000
TZOFFSETFROM:+0200
TZOFFSETTO:+0100
TZNAME:Europe/Paris CET
END:STANDARD
BEGIN:STANDARD
DTSTART:20251026T020000
RDATE:20260329T030000
TZOFFSETFROM:+0200
TZOFFSETTO:+0100
TZNAME:Europe/Paris CET
END:STANDARD
BEGIN:STANDARD
DTSTART:20261025T020000
RDATE:20270328T030000
TZOFFSETFROM:+0200
TZOFFSETTO:+0100
TZNAME:Europe/Paris CET
END:STANDARD
BEGIN:STANDARD
DTSTART:20271031T020000
RDATE:20280326T030000
TZOFFSETFROM:+0200
TZOFFSETTO:+0100
TZNAME:Europe/Paris CET
END:STANDARD
BEGIN:STANDARD
DTSTART:20281029T020000
RDATE:20290325T030000
TZOFFSETFROM:+0200
TZOFFSETTO:+0100
TZNAME:Europe/Paris CET
END:STANDARD
BEGIN:STANDARD
DTSTART:20291028T020000
RDATE:20300331T030000
TZOFFSETFROM:+0200
TZOFFSETTO:+0100
TZNAME:Europe/Paris CET
END:STANDARD
BEGIN:STANDARD
DTSTART:20301027T020000
RDATE:20310330T030000
TZOFFSETFROM:+0200
TZOFFSETTO:+0100
TZNAME:Europe/Paris CET
END:STANDARD
BEGIN:STANDARD
DTSTART:20311026T020000
RDATE:20320328T030000
TZOFFSETFROM:+0200
TZOFFSETTO:+0100
TZNAME:Europe/Paris CET
END:STANDARD
BEGIN:DAYLIGHT
DTSTART:20210405T000000
RDATE:20211031T020000
TZOFFSETFROM:+0100
TZOFFSETTO:+0200
TZNAME:Europe/Paris CEST
END:DAYLIGHT
BEGIN:DAYLIGHT
DTSTART:20220327T030000
RDATE:20221030T020000
TZOFFSETFROM:+0100
TZOFFSETTO:+0200
TZNAME:Europe/Paris CEST
END:DAYLIGHT
BEGIN:DAYLIGHT
DTSTART:20230326T030000
RDATE:20231029T020000
TZOFFSETFROM:+0100
TZOFFSETTO:+0200
TZNAME:Europe/Paris CEST
END:DAYLIGHT
BEGIN:DAYLIGHT
DTSTART:20240331T030000
RDATE:20241027T020000
TZOFFSETFROM:+0100
TZOFFSETTO:+0200
TZNAME:Europe/Paris CEST
END:DAYLIGHT
BEGIN:DAYLIGHT
DTSTART:20250330T030000
RDATE:20251026T020000
TZOFFSETFROM:+0100
TZOFFSETTO:+0200
TZNAME:Europe/Paris CEST
END:DAYLIGHT
BEGIN:DAYLIGHT
DTSTART:20260329T030000
RDATE:20261025T020000
TZOFFSETFROM:+0100
TZOFFSETTO:+0200
TZNAME:Europe/Paris CEST
END:DAYLIGHT
BEGIN:DAYLIGHT
DTSTART:20270328T030000
RDATE:20271031T020000
TZOFFSETFROM:+0100
TZOFFSETTO:+0200
TZNAME:Europe/Paris CEST
END:DAYLIGHT
BEGIN:DAYLIGHT
DTSTART:20280326T030000
RDATE:20281029T020000
TZOFFSETFROM:+0100
TZOFFSETTO:+0200
TZNAME:Europe/Paris CEST
END:DAYLIGHT
BEGIN:DAYLIGHT
DTSTART:20290325T030000
RDATE:20291028T020000
TZOFFSETFROM:+0100
TZOFFSETTO:+0200
TZNAME:Europe/Paris CEST
END:DAYLIGHT
BEGIN:DAYLIGHT
DTSTART:20300331T030000
RDATE:20301027T020000
TZOFFSETFROM:+0100
TZOFFSETTO:+0200
TZNAME:Europe/Paris CEST
END:DAYLIGHT
BEGIN:DAYLIGHT
DTSTART:20310330T030000
RDATE:20311026T020000
TZOFFSETFROM:+0100
TZOFFSETTO:+0200
TZNAME:Europe/Paris CEST
END:DAYLIGHT
END:VTIMEZONE
BEGIN:VEVENT
UID:7477bc2cc2c788d99a68eff3a3a892ad
CATEGORIES:en personne
CREATED:20211030T113646
SUMMARY:Séjour Bien-Etre en Sologne
DESCRIPTION:Séjour Bien-Etre en Sologne\n \norganisé par Elisabeth Marshall avec les ma
 gazines La Vie et Sens et Santé\nYoga, Qi Gong, Ayurveda, Méditation et con
 férences\nAvec Isabelle Morin-Larbey, Ke Wen, Liliane Gonçalvès \n \nInfos 
 : Tél. 01 40 43 20 21 - info@artsetvie.com (mailto:info@artsetvie.com)\n
X-ALT-DESC;FMTTYPE=text/html:<p class="p1" style="text-align: center;"><span style="font-size: 12pt; col
 or: #993300;"><strong><em><span style="font-family: 'comic sans ms', sans-s
 erif;">Séjour Bien-Etre en Sologne</span></em></strong></span></p><p class=
 "p1"> </p><p class="p1" style="padding-left: 30px;"><span style="font-size:
  12pt; color: #993300;"><em><span style="font-family: 'comic sans ms', sans
 -serif;">organisé par Elisabeth Marshall avec les magazines La Vie et Sens 
 et Santé</span></em></span></p><p class="p1" style="padding-left: 30px;"><s
 pan style="font-size: 12pt; color: #993300;"><em><span style="font-family: 
 'comic sans ms', sans-serif;">Yoga, Qi Gong, Ayurveda, Méditation et confér
 ences</span></em></span></p><p class="p1" style="padding-left: 30px;"><span
  style="font-size: 12pt; color: #993300;"><em><span style="font-family: 'co
 mic sans ms', sans-serif;">Avec Isabelle Morin-Larbey, Ke Wen, Liliane Gonç
 alvès </span></em></span></p><p class="p1" style="padding-left: 30px;"> </p
 ><p class="p1" style="padding-left: 30px;"><span style="font-size: 14pt;"><
 em><strong><span style="font-family: 'times new roman', times, serif;"><spa
 n class="s1">Infos : </span><span class="s2">Tél. 01 40 43 20 21 - <a href=
 "mailto:info@artsetvie.com"><span class="s3">info</span><span class="s4">@<
 /span><span class="s3">artsetvie.com</span></a></span></span></strong></em>
 </span></p>
CONTACT:01 40 43 20 21
X-EXTRAINFO:Infos : Tél. 01 40 43 20 21 - Cette adresse e-mail est protégée contre les 
 robots spammeurs. Vous devez activer le JavaScript pour la visualiser.
DTSTAMP:20260422T215226
DTSTART;TZID=Europe/Paris;VALUE=DATE:20220406
DTEND;TZID=Europe/Paris;VALUE=DATE:20220410
SEQUENCE:0
TRANSP:OPAQUE
END:VEVENT
END:VCALENDAR